BEGIN:VCALENDAR
VERSION:2.0
PRODID:-//eventon.com NONSGML v1.0//EN
CALSCALE:GREGORIAN
METHOD:PUBLISH
BEGIN:VEVENT
UID:69ea18c5e75b8
DTSTAMP:20260423T130405Z
DTSTART:20260429T150000Z
DTEND:20260429T160000Z
LOCATION:
SUMMARY:CÓMO ELIMINAR LA DEPENDENCIA EMOCIONAL
DESCRIPTION:Tener una relación de pareja nos genera mucha alegría y esto 
 es bueno. Sin embargo\,  cuando sentimos que nuestra felicidad depende de o
 tra persona y que\,  si no está\,  nuestra vida no puede ser la misma\,  e
 l sufrimiento parece que es inevitable. Uno no quiere depender de otra pers
 ona para[..]\nhttps://menteplus.es/events/como-eliminar-la-dependencia-emoc
 ional-3/
URL:https://menteplus.es/events/como-eliminar-la-dependencia-emocional-3/
END:VEVENT
END:VCALENDAR