BEGIN:VCALENDAR
VERSION:2.0
PRODID:-//eventon.com NONSGML v1.0//EN
CALSCALE:GREGORIAN
METHOD:PUBLISH
BEGIN:VEVENT
UID:69e5821f4af77
DTSTAMP:20260420T013215Z
DTSTART:20260424T160000Z
DTEND:20260424T160000Z
LOCATION:
SUMMARY:CÓMO ELIMINAR TUS BLOQUEOS
DESCRIPTION:La vida no suele ser una camino de rosas. Las experiencias que 
 vamos viviendo nos van marcando\,  muchas de ellas hasta el punto en el que
  te generan bloqueos en diferentes áreas de tu vida o en la vida en sí\, 
  y que te impiden avanzar en ese aspecto: bloqueos[..]\nhttps://menteplus.e
 s/events/como-eliminar-tus-bloqueos/
URL:https://menteplus.es/events/como-eliminar-tus-bloqueos/
END:VEVENT
END:VCALENDAR