BEGIN:VCALENDAR
VERSION:2.0
PRODID:-//eventon.com NONSGML v1.0//EN
CALSCALE:GREGORIAN
METHOD:PUBLISH
BEGIN:VEVENT
UID:69ea187e19219
DTSTAMP:20260423T130254Z
DTSTART:20260430T160000Z
DTEND:20260430T170000Z
LOCATION:
SUMMARY:CÓMO DEJAR DE PENSAR DEMASIADO
DESCRIPTION:Vivir una vida sin pensar las cosas es malo. Pero estar constan
 temente pensando en cosas que ya ocurrieron\,  sobre todo cosas negativas\,
   también lo es. Parece inevitable que este tipo de pensamientos te vengan
  a la cabeza después de haber sufrido ciertas experiencias\,  aunque a nad
 ie le gusta tenerlos. Y[..]\nhttps://menteplus.es/events/como-dejar-de-pens
 ar-demasiado-4/
URL:https://menteplus.es/events/como-dejar-de-pensar-demasiado-4/
END:VEVENT
END:VCALENDAR